Workbook
Name c______________________________________________________________Ц: Статистика!#REF!

Sheet бланк жер.
B1: ПРОТОКОЛ ЖЕРЕБЬЁВКИ
A2: № регистрации | B2: Название пары (двойки) | C2: Ф И О | E2: порядковый номер очердности жеребьёвки | F2: № сектора
A4: 1
A5: 2
A6: 3
A7: 4
A8: 5
A9: 6
A10: 7
A11: 8
A12: 9
A13: 10
A14: 11
A15: 12
... A33: 30

Sheet Жереб.
B1: ПРОТОКОЛ ЖЕРЕБЬЁВКИ
A2: Чемпионат НСО по ловле карпа (парные)
B3: г.Новосибирск | E3: 18-21.08.2016
A4: № регистрации | B4: Название пары (двойки) | C4: Ф И О | D4: разряд звание | E4: порядковый номер очердности жеребьёвки | F4: № сектора
A6: 7 | B6: Deep Water | C6: Вергунов Максим Юревич Вергунов Александр Юрьевич | D6: 1 2 | E6: 2 | F6: 1
A7: 5 | B7: Катунь | C7: Вотяков Андрей Михайлович Заушицин Артем Анатольевич | D7: 1 3 | E7: 6 | F7: 2
A8: 10 | B8: Дрим Тим | C8: Иванов Алексей Анатольевич Иванова Наталья Анатольевна | D8: 2 б\р | E8: 3 | F8: 3
A9: 3 | B9: Assum | C9: Крюков Александр Сеергеевич Крюкова Татьяна Александровна | D9: кмс кмс | E9: 1 | F9: 4
A10: 8 | B10: Нигма | C10: Строкольский Михаил Сергеевич Шаков Артем Викторович | D10: 1 3 | E10: 8 | F10: 5
A11: 9 | B11: Карпуша | C11: Костин Константин Анатольевич Костин Константин Константинович | D11: кмс 3 | E11: 9 | F11: 6
A12: 1 | B12: NoKill team | C12: Елизарьев Виталий Юрьевич Кущ Константин Викторович | D12: 2 2 | E12: 4 | F12: 7
A13: 2 | B13: Команда водянного | C13: Герасимов Алексей Николаевич Докучаев Евгений Гергиевич | D13: 1 2 | E13: 7 | F13: 8
A14: 4 | B14: АкМа | C14: Караванов Павел Владимирович Ковалев Николай Александрович | D14: 2 3 | E14: 5 | F14: 9
A15: 6 | B15: nismo | C15: Суртаев Сергей Валерьевич Куликов Денис Игоревич | D15: 3 б/р | E15: 10 | F15: 10
C16: Количество команд: | E16: =COUNT(E6:E15) -> 10
A17: Главный секретарь соревнований: | E17: ='Список суд.'!C11 -> Семина ОВ
E18: ='Список суд.'!D11 -> 1к

Sheet Список суд.
A1: СУДЕЙСКАЯ КОЛЛЕГИЯ СОРЕВНОВАНИЯ
A2: =Жереб.!A2 -> Чемпионат НСО по ловле карпа (парные)
C3: (наименование соревнований)
A4: =Жереб.!B3 -> г.Новосибирск | E4: =Жереб.!E3 -> 18-21.08.2016
B5: (место проведения) | E5: (дата проведения)
A6: № | B6: Судейская должность | C6: Фамилия и инициалы | D6: Категория | E6: Организация, город | F6: Оценка работы судьи
A7: п/п
A8: 1 | B8: Главный судья | C8: Журавлев АЛ | D8: 1к
A9: 2 | B9: Зам. гл. судьи | C9: Енаки ИЮ | D9: 2к
A10: 3 | B10: Зам. гл. судьи
A11: 4 | B11: Гл. секретарь | C11: Семина ОВ | D11: 1к
A12: 5 | B12: Зам. гл. секретаря | C12: Тарейкин ГВ | D12: 3к
A13: 6 | B13: Ст. судья зоны | C13: Абрамов ВВ | D13: 1к
A14: 7 | B14: Ст. судья зоны
A15: 8 | B15: Ст. судья зоны
A16: 9 | B16: Ст. судья зоны
A17: 10 | B17: Ст. судья зоны
A18: 11 | B18: Судья - секретарь
A19: 12 | B19: Судья - секретарь
A20: 13 | B20: Судья - секретарь
A21: 14 | B21: Судья - секретарь
A22: 15 | B22: Судья - секретарь
A23: 16 | B23: Судья-контролёр | C23: Польских АМ | D23: 3к
A24: 17 | B24: Судья-контролёр
A25: 18 | B25: Судья-контролёр
A26: 19 | B26: Судья-контролёр
A27: 20 | B27: Судья-контролёр
A29: Главный судья соревнований : ______________________________ | D29: =C8 -> Журавлев АЛ | E29: категория: | F29: =D8 -> 1к

Sheet Мандатная комиссия
C4: МАНДАТНАЯ КОМИССИИЯ СОРЕВНОВАНИЙ
A5: =Жереб.!A2 -> Чемпионат НСО по ловле карпа (парные)
C6: (наименование соревнований)
C7: =Жереб.!B3 -> г.Новосибирск | E7: =Жереб.!E3 -> 18-21.08.2016
C8: (место проведения) | E8: (дата проведения)
A9: № | B9: должность | C9: фамилия и инициалы | D9: судейская категория | E9: организация
A10: п/п
A11: 1
A12: 2
A13: 3
C17: Председатель Организационного комитета по проведению соревнования:

Sheet Пр.мандатный
A1: ПРОТОКОЛ
A2: заседания мандатной комиссии соревнований
A3: =Жереб.!A2 -> Чемпионат НСО по ловле карпа (парные)
A4: место и время проведения: | D4: =Жереб.!B3 -> г.Новосибирск | H4: =Жереб.!E3 -> 18-21.08.2016
A6: Мандатная комиссия в составе:
A7: Председатель комиссии: | D7: ='Мандатная комиссия'!C11 -> 0
A8: Члены комиссии: | D8: ='Мандатная комиссия'!C12 -> 0
D9: ='Мандатная комиссия'!C13 -> 0
A10: Рассмотрела поступившие заявки на участие в соревнованиях,
A11: а также установленные правилами соревнований документы спортсменов
A12: и установила:
A13: На участие в соревнованиях подали заявки команд (пар): | G13: =Жереб.!E16 -> 10
A14: К турниру допущено команд( пар): всего 23 спортсменов, в том числе: | D14: =Жереб.!E16 -> 10 | E14: всего спортсменов: | H14: из них:
A15: мастеров спорта международного класса:
A16: мастеров спорта:
A17: кандидатов в мастера спорта:
A18: первого разряда:
A19: из них запасных:
A20: спортсмены б\р,второго третьего разряда:
A21: Количество регионов допущенных к соревнованию:
A23: Замечания по сданным документам и их оформлению:
A32: Председатель мандатной комиссии,
A33: (Главный судья соревнований): | E33: ='Мандатная комиссия'!C11 -> 0
A35: Члены комиссии: | D35: ='Мандатная комиссия'!C12 -> 0
D37: ='Мандатная комиссия'!C13 -> 0

Sheet Пр.суд.контр.
A1: =Жереб.!B6 -> Deep Water | E1: Протокол судьи - контролёра | G1: СЕКТОР № 1 | H1: =Жереб.!B7 -> Катунь | L1: Протокол судьи - контролёра | N1: СЕКТОР № 2 | O1: =Жереб.!B8 -> Дрим Тим | S1: Протокол судьи - контролёра | U1: СЕКТОР № 3 | V1: =Жереб.!B9 -> Assum | Z1: Протокол судьи - контролёра | AB1: СЕКТОР № 4 | AC1: =Жереб.!B10 -> Нигма | AG1: Протокол судьи - контролёра | AI1: СЕКТОР № 5 | AJ1: =Жереб.!B11 -> Карпуша | AN1: Протокол судьи - контролёра | AP1: СЕКТОР № 6 | AQ1: =Жереб.!B12 -> NoKill team | AU1: Протокол судьи - контролёра | AW1: СЕКТОР № 7 | AX1: =Жереб.!B13 -> Команда водянного | BB1: Протокол судьи - контролёра | BD1: СЕКТОР № 8 | BE1: =Жереб.!B14 -> АкМа | BI1: Протокол судьи - контролёра | BK1: СЕКТОР № 9 | BL1: =Жереб.!B15 -> nismo | BP1: Протокол судьи - контролёра | BR1: СЕКТОР № 10 | BS1: =Жереб.!#REF! -> #REF! | BW1: Протокол судьи - контролёра | BY1: СЕКТОР № 11 | BZ1: =Жереб.!#REF! -> #REF! | CD1: Протокол судьи - контролёра | CF1: СЕКТОР № 12 | CG1: =Жереб.!#REF! -> #REF! | CK1: Протокол судьи - контролёра | CM1: СЕКТОР № 13 | CN1: =Жереб.!#REF! -> #REF! | CR1: Протокол судьи - контролёра | CT1: СЕКТОР № 14 | CU1: =Жереб.!#REF! -> #REF! | CY1: Протокол судьи - контролёра | DA1: СЕКТОР № 15 | DB1: =Жереб.!#REF! -> #REF! | DF1: Протокол судьи - контроллёра | DH1: СЕКТОР № 16 | DI1: =Жереб.!#REF! -> #REF! | DM1: Протокол судьи - контроллёра | DO1: СЕКТОР № 17 | DP1: =Жереб.!#REF! -> #REF! | DT1: Протокол судьи - контроллёра | DV1: СЕКТОР № 18 | DW1: =Жереб.!#REF! -> #REF! | EA1: Протокол судьи - контроллёра | EC1: СЕКТОР № 19 | ED1: =Жереб.!#REF! -> #REF! | EH1: Протокол судьи - контролёра | EJ1: СЕКТОР № 20 | EK1: =Жереб.!#REF! -> #REF! | EO1: Протокол судьи - контролёра | EQ1: СЕКТОР № 21 | ER1: =Жереб.!#REF! -> #REF! | EV1: Протокол судьи - контролёра | EX1: СЕКТОР № 22 | EY1: =Жереб.!#REF! -> #REF! | FC1: Протокол судьи - контролёра | FE1: СЕКТОР № 23 | FF1: =Жереб.!#REF! -> #REF! | FJ1: Протокол судьи - контролёра | FL1: СЕКТОР № 24 | FM1: =Жереб.!#REF! -> #REF! | FQ1: Протокол судьи - контролёра | FS1: СЕКТОР № 25 | FT1: =Жереб.!#REF! -> #REF! | FX1: Протокол судьи - контролёра | FZ1: СЕКТОР № 26 | GA1: =Жереб.!#REF! -> #REF! | GE1: Протокол судьи - контролёра | GG1: СЕКТОР № 27 | GH1: =Жереб.!#REF! -> #REF! | GL1: Протокол судьи - контролёра | GN1: СЕКТОР № 28 | GO1: =Жереб.!#REF! -> #REF! | GS1: Протокол судьи - контролёра | GU1: СЕКТОР № 29 | GV1: =Жереб.!#REF! -> #REF! | GZ1: Протокол судьи - контролёра | HB1: СЕКТОР № 30
E2: =Жереб.!A2 -> Чемпионат НСО по ловле карпа (парные) | L2: =E2 -> Чемпионат НСО по ловле карпа (парные) | S2: =L2 -> Чемпионат НСО по ловле карпа (парные) | Z2: =S2 -> Чемпионат НСО по ловле карпа (парные) | AG2: =Z2 -> Чемпионат НСО по ловле карпа (парные) | AN2: =AG2 -> Чемпионат НСО по ловле карпа (парные) | AU2: =AN2 -> Чемпионат НСО по ловле карпа (парные) | BB2: =AU2 -> Чемпионат НСО по ловле карпа (парные) | BI2: =BB2 -> Чемпионат НСО по ловле карпа (парные) | BP2: =BI2 -> Чемпионат НСО по ловле карпа (парные) | BW2: =BP2 -> Чемпионат НСО по ловле карпа (парные) | CD2: =BW2 -> Чемпионат НСО по ловле карпа (парные) | CK2: =CD2 -> Чемпионат НСО по ловле карпа (парные) | CR2: =CK2 -> Чемпионат НСО по ловле карпа (парные) | CY2: =CR2 -> Чемпионат НСО по ловле карпа (парные) | DF2: =CY2 -> Чемпионат НСО по ловле карпа (парные) | DM2: =DF2 -> Чемпионат НСО по ловле карпа (парные) | DT2: =DM2 -> Чемпионат НСО по ловле карпа (парные) | EA2: =DT2 -> Чемпионат НСО по ловле карпа (парные) | EH2: =EA2 -> Чемпионат НСО по ловле карпа (парные) | EO2: =EH2 -> Чемпионат НСО по ловле карпа (парные) | EV2: =EO2 -> Чемпионат НСО по ловле карпа (парные) | FC2: =EV2 -> Чемпионат НСО по ловле карпа (парные) | FJ2: =FC2 -> Чемпионат НСО по ловле карпа (парные) | FQ2: =FJ2 -> Чемпионат НСО по ловле карпа (парные) | FX2: =FQ2 -> Чемпионат НСО по ловле карпа (парные) | GE2: =FX2 -> Чемпионат НСО по ловле карпа (парные) | GL2: =GE2 -> Чемпионат НСО по ловле карпа (парные) | GS2: =GL2 -> Чемпионат НСО по ловле карпа (парные) | GZ2: =GS2 -> Чемпионат НСО по ловле карпа (парные)
A3: =Жереб.!C6 -> Вергунов Максим Юревич Вергунов Александр Юрьевич | H3: =Жереб.!C7 -> Вотяков Андрей Михайлович Заушицин Артем Анатольевич | O3: =Жереб.!C8 -> Иванов Алексей Анатольевич Иванова Наталья Анатольевна | V3: =Жереб.!C9 -> Крюков Александр Сеергеевич Крюкова Татьяна Александровна | AC3: =Жереб.!C10 -> Строкольский Михаил Сергеевич Шаков Артем Викторович | AJ3: =Жереб.!C11 -> Костин Константин Анатольевич Костин Константин Константинович | AQ3: =Жереб.!C12 -> Елизарьев Виталий Юрьевич Кущ Константин Викторович | AX3: =Жереб.!C13 -> Герасимов Алексей Николаевич Докучаев Евгений Гергиевич | BE3: =Жереб.!C14 -> Караванов Павел Владимирович Ковалев Николай Александрович | BL3: =Жереб.!C15 -> Суртаев Сергей Валерьевич Куликов Денис Игоревич | BS3: =Жереб.!#REF! -> #REF! | BZ3: =Жереб.!#REF! -> #REF! | CG3: =Жереб.!#REF! -> #REF! | CN3: =Жереб.!#REF! -> #REF! | CU3: =Жереб.!#REF! -> #REF! | DB3: =Жереб.!#REF! -> #REF! | DI3: =Жереб.!#REF! -> #REF! | DP3: =Жереб.!#REF! -> #REF! | DW3: =Жереб.!#REF! -> #REF! | ED3: =Жереб.!#REF! -> #REF! | EK3: =Жереб.!#REF! -> #REF! | ER3: =Жереб.!#REF! -> #REF! | EY3: =Жереб.!#REF! -> #REF! | FF3: =Жереб.!#REF! -> #REF! | FM3: =Жереб.!#REF! -> #REF! | FT3: =Жереб.!#REF! -> #REF! | GA3: =Жереб.!#REF! -> #REF! | GH3: =Жереб.!#REF! -> #REF! | GO3: =Жереб.!#REF! -> #REF! | GV3: =Жереб.!#REF! -> #REF!
A4: запасной: | E4: =Жереб.!B3 -> г.Новосибирск | G4: =Жереб.!E3 -> 18-21.08.2016 | H4: запасной: | L4: =E4 -> г.Новосибирск | N4: =G4 -> 18-21.08.2016 | O4: запасной: | S4: =L4 -> г.Новосибирск | U4: =N4 -> 18-21.08.2016 | V4: запасной: | Z4: =S4 -> г.Новосибирск | AB4: =AI4 -> 18-21.08.2016 | AC4: запасной: | AG4: =S4 -> г.Новосибирск | AI4: =U4 -> 18-21.08.2016 | AJ4: запасной: | AN4: =AG4 -> г.Новосибирск | AP4: =AI4 -> 18-21.08.2016 | AQ4: запасной: | AU4: =AN4 -> г.Новосибирск | AW4: =AP4 -> 18-21.08.2016 | AX4: запасной: | BB4: =AU4 -> г.Новосибирск | BD4: =AW4 -> 18-21.08.2016 | BE4: запасной: | BI4: =BB4 -> г.Новосибирск | BK4: =BD4 -> 18-21.08.2016 | BL4: запасной: | BP4: =BI4 -> г.Новосибирск | BR4: =BK4 -> 18-21.08.2016 | BS4: запасной: | BW4: =BP4 -> г.Новосибирск | BY4: =BR4 -> 18-21.08.2016 | BZ4: запасной: | CD4: =BW4 -> г.Новосибирск | CF4: =BY4 -> 18-21.08.2016 | CG4: запасной: | CK4: =CD4 -> г.Новосибирск | CM4: =CF4 -> 18-21.08.2016 | CN4: запасной: | CR4: =CK4 -> г.Новосибирск | CT4: =CM4 -> 18-21.08.2016 | CU4: запасной: | CY4: =CR4 -> г.Новосибирск | DA4: =CT4 -> 18-21.08.2016 | DB4: запасной: | DF4: =CY4 -> г.Новосибирск | DH4: =DA4 -> 18-21.08.2016 | DI4: запасной: | DM4: =DF4 -> г.Новосибирск | DO4: =DH4 -> 18-21.08.2016 | DP4: запасной: | DT4: =DM4 -> г.Новосибирск | DV4: =DO4 -> 18-21.08.2016 | DW4: запасной: | EA4: =DT4 -> г.Новосибирск | EC4: =DV4 -> 18-21.08.2016 | ED4: запасной: | EH4: =EA4 -> г.Новосибирск | EJ4: =EC4 -> 18-21.08.2016 | EK4: запасной: | EO4: =EH4 -> г.Новосибирск | EQ4: =EJ4 -> 18-21.08.2016 | ER4: запасной: | EV4: =EO4 -> г.Новосибирск | EX4: =EQ4 -> 18-21.08.2016 | EY4: запасной: | FC4: =EV4 -> г.Новосибирск | FE4: =EX4 -> 18-21.08.2016 | FF4: запасной: | FJ4: =FC4 -> г.Новосибирск | FL4: =FE4 -> 18-21.08.2016 | FM4: запасной: | FQ4: =FJ4 -> г.Новосибирск | FS4: =FL4 -> 18-21.08.2016 | FT4: запасной: | FX4: =FQ4 -> г.Новосибирск | FZ4: =FS4 -> 18-21.08.2016 | GA4: запасной: | GE4: =FX4 -> г.Новосибирск | GG4: =FZ4 -> 18-21.08.2016 | GH4: запасной: | GL4: =GE4 -> г.Новосибирск | GN4: =GG4 -> 18-21.08.2016 | GO4: запасной: | GS4: =GL4 -> г.Новосибирск | GU4: =GN4 -> 18-21.08.2016 | GV4: запасной: | GZ4: =GS4 -> г.Новосибирск | HB4: =GU4 -> 18-21.08.2016
A5: № | B5: дата | C5: вид | D5: вес | E5: подпись | F5: подпись | G5: примечание | H5: № | I5: дата | J5: вид | K5: вес | L5: подпись | M5: подпись | N5: примечание | O5: № | P5: дата | Q5: вид | R5: вес | S5: подпись | T5: подпись | U5: примечание | V5: № | W5: дата | X5: вид | Y5: вес | Z5: подпись | AA5: подпись | AB5: примечание | AC5: № | AD5: дата | AE5: вид | AF5: вес | AG5: подпись | AH5: подпись | AI5: примечание | AJ5: № | AK5: дата | AL5: вид | AM5: вес | AN5: подпись | AO5: подпись | AP5: примечание | AQ5: № | AR5: дата | AS5: вид | AT5: вес | AU5: подпись | AV5: подпись | AW5: примечание | AX5: № | AY5: дата | AZ5: вид | BA5: вес | BB5: подпись | BC5: подпись | BD5: примечание | BE5: № | BF5: дата | BG5: вид | BH5: вес | BI5: подпись | BJ5: подпись | BK5: примечание | BL5: № | BM5: дата | BN5: вид | BO5: вес | BP5: подпись | BQ5: подпись | BR5: примечание | BS5: № | BT5: дата | BU5: вид | BV5: вес | BW5: подпись | BX5: подпись | BY5: примечание | BZ5: № | CA5: дата | CB5: вид | CC5: вес | CD5: подпись | CE5: подпись | CF5: примечание | CG5: № | CH5: дата | CI5: вид | CJ5: вес | CK5: подпись | CL5: подпись | CM5: примечание | CN5: № | CO5: дата | CP5: вид | CQ5: вес | CR5: подпись | CS5: подпись | CT5: примечание | CU5: № | CV5: дата | CW5: вид | CX5: вес | CY5: подпись | CZ5: подпись | DA5: примечание | DB5: № | DC5: дата | DD5: вид | DE5: вес | DF5: подпись | DG5: подпись | DH5: примечание | DI5: № | DJ5: дата | DK5: вид | DL5: вес | DM5: подпись | DN5: подпись | DO5: примечание | DP5: № | DQ5: дата | DR5: вид | DS5: вес | DT5: подпись | DU5: подпись | DV5: примечание | DW5: № | DX5: дата | DY5: вид | DZ5: вес | EA5: подпись | EB5: подпись | EC5: примечание | ED5: № | EE5: дата | EF5: вид | EG5: вес | EH5: подпись | EI5: подпись | EJ5: примечание | EK5: № | EL5: дата | EM5: вид | EN5: вес | EO5: подпись | EP5: подпись | EQ5: примечание | ER5: № | ES5: дата | ET5: вид | EU5: вес | EV5: подпись | EW5: подпись | EX5: примечание | EY5: № | EZ5: дата | FA5: вид | FB5: вес | FC5: подпись | FD5: подпись | FE5: примечание | FF5: № | FG5: дата | FH5: вид | FI5: вес | FJ5: подпись | FK5: подпись | FL5: примечание | FM5: № | FN5: дата | FO5: вид | FP5: вес | FQ5: подпись | FR5: подпись | FS5: примечание | FT5: № | FU5: дата | FV5: вид | FW5: вес | FX5: подпись | FY5: подпись | FZ5: примечание | GA5: № | GB5: дата | GC5: вид | GD5: вес | GE5: подпись | GF5: подпись | GG5: примечание | GH5: № | GI5: дата | GJ5: вид | GK5: вес | GL5: подпись | GM5: подпись | GN5: примечание | GO5: № | GP5: дата | GQ5: вид | GR5: вес | GS5: подпись | GT5: подпись | GU5: примечание | GV5: № | GW5: дата | GX5: вид | GY5: вес | GZ5: подпись | HA5: подпись | HB5: примечание
A6: п\п | B6: время | C6: рыбы | D6: рыбы | E6: судьи | F6: спортсмена | H6: п\п | I6: время | J6: рыбы | K6: рыбы | L6: судьи | M6: спортсмена | O6: п\п | P6: время | Q6: рыбы | R6: рыбы | S6: судьи | T6: спортсмена | V6: п\п | W6: время | X6: рыбы | Y6: рыбы | Z6: судьи | AA6: спортсмена | AC6: п\п | AD6: время | AE6: рыбы | AF6: рыбы | AG6: судьи | AH6: спортсмена | AJ6: п\п | AK6: время | AL6: рыбы | AM6: рыбы | AN6: судьи | AO6: спортсмена | AQ6: п\п | AR6: время | AS6: рыбы | AT6: рыбы | AU6: судьи | AV6: спортсмена | AX6: п\п | AY6: время | AZ6: рыбы | BA6: рыбы | BB6: судьи | BC6: спортсмена | BE6: п\п | BF6: время | BG6: рыбы | BH6: рыбы | BI6: судьи | BJ6: спортсмена | BL6: п\п | BM6: время | BN6: рыбы | BO6: рыбы | BP6: судьи | BQ6: спортсмена | BS6: п\п | BT6: время | BU6: рыбы | BV6: рыбы | BW6: судьи | BX6: спортсмена | BZ6: п\п | CA6: время | CB6: рыбы | CC6: рыбы | CD6: судьи | CE6: спортсмена | CG6: п\п | CH6: время | CI6: рыбы | CJ6: рыбы | CK6: судьи | CL6: спортсмена | CN6: п\п | CO6: время | CP6: рыбы | CQ6: рыбы | CR6: судьи | CS6: спортсмена | CU6: п\п | CV6: время | CW6: рыбы | CX6: рыбы | CY6: судьи | CZ6: спортсмена | DB6: п\п | DC6: время | DD6: рыбы | DE6: рыбы | DF6: судьи | DG6: спортсмена | DI6: п\п | DJ6: время | DK6: рыбы | DL6: рыбы | DM6: судьи | DN6: спортсмена | DP6: п\п | DQ6: время | DR6: рыбы | DS6: рыбы | DT6: судьи | DU6: спортсмена | DW6: п\п | DX6: время | DY6: рыбы | DZ6: рыбы | EA6: судьи | EB6: спортсмена | ED6: п\п | EE6: время | EF6: рыбы | EG6: рыбы | EH6: судьи | EI6: спортсмена | EK6: п\п | EL6: время | EM6: рыбы | EN6: рыбы | EO6: судьи | EP6: спортсмена | ER6: п\п | ES6: время | ET6: рыбы | EU6: рыбы | EV6: судьи | EW6: спортсмена | EY6: п\п | EZ6: время | FA6: рыбы | FB6: рыбы | FC6: судьи | FD6: спортсмена | FF6: п\п | FG6: время | FH6: рыбы | FI6: рыбы | FJ6: судьи | FK6: спортсмена | FM6: п\п | FN6: время | FO6: рыбы | FP6: рыбы | FQ6: судьи | FR6: спортсмена | FT6: п\п | FU6: время | FV6: рыбы | FW6: рыбы | FX6: судьи | FY6: спортсмена | GA6: п\п | GB6: время | GC6: рыбы | GD6: рыбы | GE6: судьи | GF6: спортсмена | GH6: п\п | GI6: время | GJ6: рыбы | GK6: рыбы | GL6: судьи | GM6: спортсмена | GO6: п\п | GP6: время | GQ6: рыбы | GR6: рыбы | GS6: судьи | GT6: спортсмена | GV6: п\п | GW6: время | GX6: рыбы | GY6: рыбы | GZ6: судьи | HA6: спортсмена
A7: 1 | H7: 1 | O7: 1 | V7: 1 | AC7: 1 | AJ7: 1 | AQ7: 1 | AX7: 1 | BE7: 1 | BL7: 1 | BS7: 1 | BZ7: 1 | CG7: 1 | CN7: 1 | CU7: 1 | DB7: 1 | DI7: 1 | DP7: 1 | DW7: 1 | ED7: 1 | EK7: 1 | ER7: 1 | EY7: 1 | FF7: 1 | FM7: 1 | FT7: 1 | GA7: 1 | GH7: 1 | GO7: 1 | GV7: 1
A8: 2 | H8: 2 | O8: 2 | V8: 2 | AC8: 2 | AJ8: 2 | AQ8: 2 | AX8: 2 | BE8: 2 | BL8: 2 | BS8: 2 | BZ8: 2 | CG8: 2 | CN8: 2 | CU8: 2 | DB8: 2 | DI8: 2 | DP8: 2 | DW8: 2 | ED8: 2 | EK8: 2 | ER8: 2 | EY8: 2 | FF8: 2 | FM8: 2 | FT8: 2 | GA8: 2 | GH8: 2 | GO8: 2 | GV8: 2
A9: 3 | H9: 3 | O9: 3 | V9: 3 | AC9: 3 | AJ9: 3 | AQ9: 3 | AX9: 3 | BE9: 3 | BL9: 3 | BS9: 3 | BZ9: 3 | CG9: 3 | CN9: 3 | CU9: 3 | DB9: 3 | DI9: 3 | DP9: 3 | DW9: 3 | ED9: 3 | EK9: 3 | ER9: 3 | EY9: 3 | FF9: 3 | FM9: 3 | FT9: 3 | GA9: 3 | GH9: 3 | GO9: 3 | GV9: 3
A10: 4 | H10: 4 | O10: 4 | V10: 4 | AC10: 4 | AJ10: 4 | AQ10: 4 | AX10: 4 | BE10: 4 | BL10: 4 | BS10: 4 | BZ10: 4 | CG10: 4 | CN10: 4 | CU10: 4 | DB10: 4 | DI10: 4 | DP10: 4 | DW10: 4 | ED10: 4 | EK10: 4 | ER10: 4 | EY10: 4 | FF10: 4 | FM10: 4 | FT10: 4 | GA10: 4 | GH10: 4 | GO10: 4 | GV10: 4
A11: 5 | H11: 5 | O11: 5 | V11: 5 | AC11: 5 | AJ11: 5 | AQ11: 5 | AX11: 5 | BE11: 5 | BL11: 5 | BS11: 5 | BZ11: 5 | CG11: 5 | CN11: 5 | CU11: 5 | DB11: 5 | DI11: 5 | DP11: 5 | DW11: 5 | ED11: 5 | EK11: 5 | ER11: 5 | EY11: 5 | FF11: 5 | FM11: 5 | FT11: 5 | GA11: 5 | GH11: 5 | GO11: 5 | GV11: 5
A12: 6 | H12: 6 | O12: 6 | V12: 6 | AC12: 6 | AJ12: 6 | AQ12: 6 | AX12: 6 | BE12: 6 | BL12: 6 | BS12: 6 | BZ12: 6 | CG12: 6 | CN12: 6 | CU12: 6 | DB12: 6 | DI12: 6 | DP12: 6 | DW12: 6 | ED12: 6 | EK12: 6 | ER12: 6 | EY12: 6 | FF12: 6 | FM12: 6 | FT12: 6 | GA12: 6 | GH12: 6 | GO12: 6 | GV12: 6
A13: 7 | H13: 7 | O13: 7 | V13: 7 | AC13: 7 | AJ13: 7 | AQ13: 7 | AX13: 7 | BE13: 7 | BL13: 7 | BS13: 7 | BZ13: 7 | CG13: 7 | CN13: 7 | CU13: 7 | DB13: 7 | DI13: 7 | DP13: 7 | DW13: 7 | ED13: 7 | EK13: 7 | ER13: 7 | EY13: 7 | FF13: 7 | FM13: 7 | FT13: 7 | GA13: 7 | GH13: 7 | GO13: 7 | GV13: 7
A14: 8 | H14: 8 | O14: 8 | V14: 8 | AC14: 8 | AJ14: 8 | AQ14: 8 | AX14: 8 | BE14: 8 | BL14: 8 | BS14: 8 | BZ14: 8 | CG14: 8 | CN14: 8 | CU14: 8 | DB14: 8 | DI14: 8 | DP14: 8 | DW14: 8 | ED14: 8 | EK14: 8 | ER14: 8 | EY14: 8 | FF14: 8 | FM14: 8 | FT14: 8 | GA14: 8 | GH14: 8 | GO14: 8 | GV14: 8
A15: 9 | H15: 9 | O15: 9 | V15: 9 | AC15: 9 | AJ15: 9 | AQ15: 9 | AX15: 9 | BE15: 9 | BL15: 9 | BS15: 9 | BZ15: 9 | CG15: 9 | CN15: 9 | CU15: 9 | DB15: 9 | DI15: 9 | DP15: 9 | DW15: 9 | ED15: 9 | EK15: 9 | ER15: 9 | EY15: 9 | FF15: 9 | FM15: 9 | FT15: 9 | GA15: 9 | GH15: 9 | GO15: 9 | GV15: 9
A16: 10 | H16: 10 | O16: 10 | V16: 10 | AC16: 10 | AJ16: 10 | AQ16: 10 | AX16: 10 | BE16: 10 | BL16: 10 | BS16: 10 | BZ16: 10 | CG16: 10 | CN16: 10 | CU16: 10 | DB16: 10 | DI16: 10 | DP16: 10 | DW16: 10 | ED16: 10 | EK16: 10 | ER16: 10 | EY16: 10 | FF16: 10 | FM16: 10 | FT16: 10 | GA16: 10 | GH16: 10 | GO16: 10 | GV16: 10
A17: 11 | H17: 11 | O17: 11 | V17: 11 | AC17: 11 | AJ17: 11 | AQ17: 11 | AX17: 11 | BE17: 11 | BL17: 11 | BS17: 11 | BZ17: 11 | CG17: 11 | CN17: 11 | CU17: 11 | DB17: 11 | DI17: 11 | DP17: 11 | DW17: 11 | ED17: 11 | EK17: 11 | ER17: 11 | EY17: 11 | FF17: 11 | FM17: 11 | FT17: 11 | GA17: 11 | GH17: 11 | GO17: 11 | GV17: 11
A18: 12 | H18: 12 | O18: 12 | V18: 12 | AC18: 12 | AJ18: 12 | AQ18: 12 | AX18: 12 | BE18: 12 | BL18: 12 | BS18: 12 | BZ18: 12 | CG18: 12 | CN18: 12 | CU18: 12 | DB18: 12 | DI18: 12 | DP18: 12 | DW18: 12 | ED18: 12 | EK18: 12 | ER18: 12 | EY18: 12 | FF18: 12 | FM18: 12 | FT18: 12 | GA18: 12 | GH18: 12 | GO18: 12 | GV18: 12
... A33: 27 | H33: 27 | O33: 27 | V33: 27 | AC33: 27 | AJ33: 27 | AQ33: 27 | AX33: 27 | BE33: 27 | BL33: 27 | BS33: 27 | BZ33: 27 | CG33: 27 | CN33: 27 | CU33: 27 | DB33: 27 | DI33: 27 | DP33: 27 | DW33: 27 | ED33: 27 | EK33: 27 | ER33: 27 | EY33: 27 | FF33: 27 | FM33: 27 | FT33: 27 | GA33: 27 | GH33: 27 | GO33: 27 | GV33: 27
A34: кол.рыбы:_______ | D34: общий вес рыбы:_____________ | F34: Дата и время закрытия протокола: | H34: кол.рыбы:_______ | K34: общий вес рыбы:_____________ | M34: Дата и время закрытия протокола: | O34: кол.рыбы:_______ | R34: общий вес рыбы:_____________ | T34: Дата и время закрытия протокола: | V34: кол.рыбы:_______ | Y34: общий вес рыбы:_____________ | AA34: Дата и время закрытия протокола: | AC34: кол.рыбы:_______ | AF34: общий вес рыбы:_____________ | AH34: Дата и время закрытия протокола: | AJ34: кол.рыбы:_______ | AM34: общий вес рыбы:_____________ | AO34: Дата и время закрытия протокола: | AQ34: кол.рыбы:_______ | AT34: общий вес рыбы:_____________ | AV34: Дата и время закрытия протокола: | AX34: кол.рыбы:_______ | BA34: общий вес рыбы:_____________ | BC34: Дата и время закрытия протокола: | BE34: кол.рыбы:_______ | BH34: общий вес рыбы:_____________ | BJ34: Дата и время закрытия протокола: | BL34: кол.рыбы:_______ | BO34: общий вес рыбы:_____________ | BQ34: Дата и время закрытия протокола: | BS34: кол.рыбы:_______ | BV34: общий вес рыбы:_____________ | BX34: Дата и время закрытия протокола: | BZ34: кол.рыбы:_______ | CC34: общий вес рыбы:_____________ | CE34: Дата и время закрытия протокола: | CG34: кол.рыбы:_______ | CJ34: общий вес рыбы:_____________ | CL34: Дата и время закрытия протокола: | CN34: кол.рыбы:_______ | CQ34: общий вес рыбы:_____________ | CS34: Дата и время закрытия протокола: | CU34: кол.рыбы:_______ | CX34: общий вес рыбы:_____________ | CZ34: Дата и время закрытия протокола: | DB34: кол.рыбы:_______ | DE34: общий вес рыбы:_____________ | DG34: Дата и время закрытия протокола: | DI34: кол.рыбы:_______ | DL34: общий вес рыбы:_____________ | DN34: Дата и время закрытия протокола: | DP34: кол.рыбы:_______ | DS34: общий вес рыбы:_____________ | DU34: Дата и время закрытия протокола: | DW34: кол.рыбы:_______ | DZ34: общий вес рыбы:_____________ | EB34: Дата и время закрытия протокола: | ED34: кол.рыбы:_______ | EG34: общий вес рыбы:_____________ | EI34: Дата и время закрытия протокола: | EK34: кол.рыбы:_______ | EN34: общий вес рыбы:_____________ | EP34: Дата и время закрытия протокола: | ER34: кол.рыбы:_______ | EU34: общий вес рыбы:_____________ | EW34: Дата и время закрытия протокола: | EY34: кол.рыбы:_______ | FB34: общий вес рыбы:_____________ | FD34: Дата и время закрытия протокола: | FF34: кол.рыбы:_______ | FI34: общий вес рыбы:_____________ | FK34: Дата и время закрытия протокола: | FM34: кол.рыбы:_______ | FP34: общий вес рыбы:_____________ | FR34: Дата и время закрытия протокола: | FT34: кол.рыбы:_______ | FW34: общий вес рыбы:_____________ | FY34: Дата и время закрытия протокола: | GA34: кол.рыбы:_______ | GD34: общий вес рыбы:_____________ | GF34: Дата и время закрытия протокола: | GH34: кол.рыбы:_______ | GK34: общий вес рыбы:_____________ | GM34: Дата и время закрытия протокола: | GO34: кол.рыбы:_______ | GR34: общий вес рыбы:_____________ | GT34: Дата и время закрытия протокола: | GV34: кол.рыбы:_______ | GY34: общий вес рыбы:_____________ | HA34: Дата и время закрытия протокола:
A35: ФИО и подпись судьи: | H35: ФИО и подпись судьи: | O35: ФИО и подпись судьи: | V35: ФИО и подпись судьи: | AC35: ФИО и подпись судьи: | AJ35: ФИО и подпись судьи: | AQ35: ФИО и подпись судьи: | AX35: ФИО и подпись судьи: | BE35: ФИО и подпись судьи: | BL35: ФИО и подпись судьи: | BS35: ФИО и подпись судьи: | BZ35: ФИО и подпись судьи: | CG35: ФИО и подпись судьи: | CN35: ФИО и подпись судьи: | CU35: ФИО и подпись судьи: | DB35: ФИО и подпись судьи: | DI35: ФИО и подпись судьи: | DP35: ФИО и подпись судьи: | DW35: ФИО и подпись судьи: | ED35: ФИО и подпись судьи: | EK35: ФИО и подпись судьи: | ER35: ФИО и подпись судьи: | EY35: ФИО и подпись судьи: | FF35: ФИО и подпись судьи: | FM35: ФИО и подпись судьи: | FT35: ФИО и подпись судьи: | GA35: ФИО и подпись судьи: | GH35: ФИО и подпись судьи: | GO35: ФИО и подпись судьи: | GV35: ФИО и подпись судьи:

Sheet Статистика
B1: 1 сектор | C1: 2 сектор | D1: 3 сектор | E1: 4 сектор | F1: 5 сектор | G1: 6 сектор | H1: 7 сектор | I1: 8 сектор | J1: 9 сектор | K1: 10 сектор | L1: 11 сектор | M1: 12 сектор | N1: 13 сектор | O1: 14 сектор | P1: 15 сектор | Q1: 16 сектор | R1: 17 сектор | S1: 18 сектор | T1: 19 сектор | U1: 20 сектор | V1: 21 сектор | W1: 22 сектор | X1: 23 сектор | Y1: 24 сектор | Z1: 25 сектор | AA1: 26 сектор | AB1: 27 сектор | AC1: 28 сектор | AD1: 29 сектор | AE1: 30 сектор
B2: =Жереб.!B6 -> Deep Water | C2: =Жереб.!B7 -> Катунь | D2: =Жереб.!B8 -> Дрим Тим | E2: =Жереб.!B9 -> Assum | F2: =Жереб.!B10 -> Нигма | G2: =Жереб.!B11 -> Карпуша | H2: =Жереб.!B12 -> NoKill team | I2: =Жереб.!B13 -> Команда водянного | J2: =Жереб.!B14 -> АкМа | K2: =Жереб.!B15 -> nismo | L2: =Жереб.!#REF! -> #REF! | M2: =Жереб.!#REF! -> #REF! | N2: =Жереб.!#REF! -> #REF! | O2: =Жереб.!#REF! -> #REF! | P2: =Жереб.!#REF! -> #REF! | Q2: =Жереб.!#REF! -> #REF! | R2: =Жереб.!#REF! -> #REF! | S2: =Жереб.!#REF! -> #REF! | ... AE2: =Жереб.!#REF! -> #REF!
A3: п е р в ы й п а к е т | L3: количество рыбы: | N3: =AG56 -> 13 | P3: общий вес: | R3: =AG54 -> 41225 | AG3: 1сектор | AH3: 2 сектор | AI3: 3 сектор | AJ3: 4 сектор | AK3: 5 сектор | AL3: 6 сектор | AM3: 7 сектор | AN3: 8 сектор | AO3: 9 сектор | AP3: 10 сектор | AQ3: 11 сектор | AR3: 12 сектор | AS3: 13 сектор | AT3: 14 сектор | AU3: 15 сектор | AV3: 16 сектор | AW3: 17 сектор | AX3: 18 сектор | AY3: 19 сектор | AZ3: 20 сектор | BA3: 21 сектор | BB3: 22 сектор | BC3: 23 сектор | BD3: 24 сектор | BE3: 25 сектор | BF3: 26 сектор | BG3: 27 сектор | BH3: 28 сектор | BI3: 29 сектор | BJ3: 30 сектор
A4: 1 | C4: 3275 | E4: 3425 | F4: 3050 | I4: 3500 | J4: 2350 | AF4: 1 | AG4: =B55 -> 0 | AH4: =C55 -> 3275 | AI4: =D55 -> 0 | AJ4: =E55 -> 3425 | AK4: =F55 -> 3150 | AL4: =G55 -> 0 | AM4: =H55 -> 0 | AN4: =I55 -> 4350 | ... BJ4: =AE55 -> 0
A5: 2 | F5: 3150 | I5: 2675 | J5: 3200 | AF5: 2 | AG5: =B109 -> 3350 | AH5: =C109 -> 0 | AI5: =D109 -> 0 | AJ5: =E109 -> 3600 | AK5: =F109 -> 4450 | AL5: =G109 -> 3825 | AM5: =H109 -> 2600 | AN5: =I109 -> 3900 | ... BJ5: =AE109 -> 0
A6: 3 | F6: 2725 | I6: 3000 | J6: 3650 | AF6: 3 | AG6: =B163 -> 3900 | AH6: =C163 -> 4475 | AI6: =D163 -> 4300 | AJ6: =E163 -> 4600 | AK6: =F163 -> 4500 | AL6: =G163 -> 3475 | AM6: =H163 -> 4325 | AN6: =I163 -> 4900 | ... BJ6: =AE163 -> 0
A7: 4 | F7: 2875 | I7: 4350 | AF7: 4 | AG7: =B217 -> 0 | AH7: =C217 -> 0 | AI7: =D217 -> 0 | AJ7: =E217 -> 0 | AK7: =F217 -> 0 | AL7: =G217 -> 0 | AM7: =H217 -> 0 | AN7: =I217 -> 0 | ... BJ7: =AE217 -> 0
A8: 5 | AF8: 5 | AG8: =B271 -> 0 | AH8: =C271 -> 0 | AI8: =D271 -> 0 | AJ8: =E271 -> 0 | AK8: =F271 -> 0 | AL8: =G271 -> 0 | AM8: =H271 -> 0 | AN8: =I271 -> 0 | ... BJ8: =AE271 -> 0
A9: 6 | AF9: 6 | AG9: =B325 -> 0 | AH9: =C325 -> 0 | AI9: =D325 -> 0 | AJ9: =E325 -> 0 | AK9: =F325 -> 0 | AL9: =G325 -> 0 | AM9: =H325 -> 0 | AN9: =I325 -> 0 | ... BJ9: =AE325 -> 0
A10: 7 | AF10: 7 | AG10: =B379 -> 0 | AH10: =C379 -> 0 | AI10: =D379 -> 0 | AJ10: =E379 -> 0 | AK10: =F379 -> 0 | AL10: =G379 -> 0 | AM10: =H379 -> 0 | AN10: =I379 -> 0 | ... BJ10: =AE379 -> 0
A11: 8 | AF11: 8 | AG11: =B435 -> 0 | AH11: =C435 -> 0 | AI11: =D435 -> 0 | AJ11: =E435 -> 0 | AK11: =F435 -> 0 | AL11: =G435 -> 0 | AM11: =H435 -> 0 | AN11: =I435 -> 0 | ... BJ11: =AE435 -> 0
A12: 9 | AF12: 9 | AG12: =B489 -> 0 | AH12: =C489 -> 0 | AI12: =D489 -> 0 | AJ12: =E489 -> 0 | AK12: =F489 -> 0 | AL12: =G489 -> 0 | AM12: =H489 -> 0 | AN12: =I489 -> 0 | ... BJ12: =AE489 -> 0
A13: 10 | AF13: к.р. | AG13: =MAX(AG4:AG12) -> 3900 | AH13: =MAX(AH4:AH12) -> 4475 | AI13: =MAX(AI4:AI12) -> 4300 | AJ13: =MAX(AJ4:AJ12) -> 4600 | AK13: =MAX(AK4:AK12) -> 4500 | AL13: =MAX(AL4:AL12) -> 3825 | AM13: =MAX(AM4:AM12) -> 4325 | AN13: =MAX(AN4:AN12) -> 4900 | ... BJ13: =MAX(BJ4:BJ12) -> 0
A14: 11
A15: 12
A16: 13
A17: 14
A18: 15
A19: 16
A20: 17
A21: 18
A22: 19
A23: 20
A24: 21
A25: 22
... A53: 50
A54: сум | B54: =SUM(B4:B53) -> 0 | C54: =SUM(C4:C53) -> 3275 | D54: =SUM(D4:D53) -> 0 | E54: =SUM(E4:E53) -> 3425 | F54: =SUM(F4:F53) -> 11800 | G54: =SUM(G4:G53) -> 0 | H54: =SUM(H4:H53) -> 0 | I54: =SUM(I4:I53) -> 13525 | ... AE54: =SUM(AE4:AE53) -> 0 | AG54: =SUM(B54:AE54) -> 41225
A55: к.р. | B55: =MAX(B4:B53) -> 0 | C55: =MAX(C4:C53) -> 3275 | D55: =MAX(D4:D53) -> 0 | E55: =MAX(E4:E53) -> 3425 | F55: =MAX(F4:F53) -> 3150 | G55: =MAX(G4:G53) -> 0 | H55: =MAX(H4:H53) -> 0 | I55: =MAX(I4:I53) -> 4350 | ... AE55: =MAX(AE4:AE53) -> 0
A56: кол. | B56: =COUNT(B4:B53) -> 0 | C56: =COUNT(C4:C53) -> 1 | D56: =COUNT(D4:D53) -> 0 | E56: =COUNT(E4:E53) -> 1 | F56: =COUNT(F4:F53) -> 4 | G56: =COUNT(G4:G53) -> 0 | H56: =COUNT(H4:H53) -> 0 | I56: =COUNT(I4:I53) -> 4 | ... AE56: =COUNT(AE4:AE53) -> 0 | AG56: =SUM(B56:AE56) -> 13
A57: в т о р о й п а к е т | L57: количество рыбы: | O57: =AG110 -> 20 | P57: общий вес: | S57: =AG108 -> 63075
A58: 1 | B58: 3350 | E58: 3525 | F58: 2150 | G58: 1575 | H58: 2600 | I58: 2900 | J58: 2650
A59: 2 | E59: 3600 | F59: 4450 | G59: 3825 | I59: 2975 | J59: 2225
A60: 3 | F60: 3575 | G60: 3350 | I60: 3200 | J60: 4350
A61: 4 | I61: 2950 | J61: 2625
A62: 5 | I62: 3900 | J62: 3300
A63: 6
A64: 7
A65: 8
A66: 9
A67: 10
A68: 11
A69: 12
A70: 13
A71: 14
A72: 15
A73: 16
A74: 17
... A107: 50
A108: сум | B108: =SUM(B58:B107) -> 3350 | C108: =SUM(C58:C107) -> 0 | D108: =SUM(D58:D107) -> 0 | E108: =SUM(E58:E107) -> 7125 | F108: =SUM(F58:F107) -> 10175 | G108: =SUM(G58:G107) -> 8750 | H108: =SUM(H58:H107) -> 2600 | I108: =SUM(I58:I107) -> 15925 | ... AE108: =SUM(AE58:AE107) -> 0 | AG108: =SUM(B108:AE108) -> 63075
A109: к.р. | B109: =MAX(B58:B107) -> 3350 | C109: =MAX(C58:C107) -> 0 | D109: =MAX(D58:D107) -> 0 | E109: =MAX(E58:E107) -> 3600 | F109: =MAX(F58:F107) -> 4450 | G109: =MAX(G58:G107) -> 3825 | H109: =MAX(H58:H107) -> 2600 | I109: =MAX(I58:I107) -> 3900 | ... AE109: =MAX(AE58:AE107) -> 0
A110: кол. | B110: =COUNT(B58:B107) -> 1 | C110: =COUNT(C58:C107) -> 0 | D110: =COUNT(D58:D107) -> 0 | E110: =COUNT(E58:E107) -> 2 | F110: =COUNT(F58:F107) -> 3 | G110: =COUNT(G58:G107) -> 3 | H110: =COUNT(H58:H107) -> 1 | I110: =COUNT(I58:I107) -> 5 | ... AE110: =COUNT(AE58:AE107) -> 0 | AG110: =SUM(B110:AE110) -> 20
A111: т р е т и й п а к е т | J111: количество рыбы: | M111: =AG164 -> 49 | N111: общий вес: | Q111: =AG162 -> 169025
A112: 1 | B112: 2900 | C112: 4475 | D112: 4300 | E112: 2625 | F112: 3600 | G112: 2350 | H112: 3050 | I112: 3475 | J112: 2425
A113: 2 | B113: 3900 | C113: 3500 | D113: 2775 | E113: 4600 | F113: 3375 | G113: 3450 | H113: 3175 | I113: 4900 | J113: 3350
A114: 3 | B114: 3550 | D114: 2900 | E114: 3400 | F114: 4275 | G114: 3100 | H114: 2725 | I114: 3625 | J114: 3375
A115: 4 | E115: 3075 | F115: 3525 | G115: 3475 | H115: 3950 | I115: 3075 | J115: 2750
A116: 5 | F116: 2900 | G116: 3450 | H116: 2675 | J116: 3800
A117: 6 | F117: 4500 | H117: 4325 | J117: 3050
A118: 7 | F118: 3375 | H118: 3625 | J118: 3975
A119: 8 | F119: 3350 | J119: 4750
A120: 9 | F120: 3725 | J120: 3350
A121: 10 | F121: 2800
A122: 11 | F122: 2825
A123: 12 | F123: 3525
A124: 13
A125: 14
A126: 15
A127: 16
A128: 17
A129: 18
A130: 19
A131: 20
A132: 21
A133: 22
A134: 23
A135: 24
... A161: 50
A162: сум | B162: =SUM(B112:B161) -> 10350 | C162: =SUM(C112:C161) -> 7975 | D162: =SUM(D112:D161) -> 9975 | E162: =SUM(E112:E161) -> 13700 | F162: =SUM(F112:F161) -> 41775 | G162: =SUM(G112:G161) -> 15825 | H162: =SUM(H112:H161) -> 23525 | I162: =SUM(I112:I161) -> 15075 | ... AE162: =SUM(AE112:AE161) -> 0 | AG162: =SUM(B162:AE162) -> 169025
A163: к.р. | B163: =MAX(B112:B161) -> 3900 | C163: =MAX(C112:C161) -> 4475 | D163: =MAX(D112:D161) -> 4300 | E163: =MAX(E112:E161) -> 4600 | F163: =MAX(F112:F161) -> 4500 | G163: =MAX(G112:G161) -> 3475 | H163: =MAX(H112:H161) -> 4325 | I163: =MAX(I112:I161) -> 4900 | ... AE163: =MAX(AE112:AE161) -> 0
A164: кол. | B164: =COUNT(B112:B161) -> 3 | C164: =COUNT(C112:C161) -> 2 | D164: =COUNT(D112:D161) -> 3 | E164: =COUNT(E112:E161) -> 4 | F164: =COUNT(F112:F161) -> 12 | G164: =COUNT(G112:G161) -> 5 | H164: =COUNT(H112:H161) -> 7 | I164: =COUNT(I112:I161) -> 4 | ... AE164: =COUNT(AE112:AE161) -> 0 | AG164: =SUM(B164:AE164) -> 49
A165: ч е т в ё р т ы й п а к е т | L165: количество рыбы: | O165: =AG218 -> 0 | P165: общий вес: | S165: =AG216 -> 0
A166: 1
A167: 2
A168: 3
A169: 4
A170: 5
A171: 6
A172: 7
A173: 8
A174: 9
A175: 10
A176: 11
A177: 12
... A215: 50
A216: сум | B216: =SUM(B166:B215) -> 0 | C216: =SUM(C166:C215) -> 0 | D216: =SUM(D166:D215) -> 0 | E216: =SUM(E166:E215) -> 0 | F216: =SUM(F166:F215) -> 0 | G216: =SUM(G166:G215) -> 0 | H216: =SUM(H166:H215) -> 0 | I216: =SUM(I166:I215) -> 0 | ... AE216: =SUM(AE166:AE215) -> 0 | AG216: =SUM(A216:AE216) -> 0
A217: к.р. | B217: =MAX(B166:B215) -> 0 | C217: =MAX(C166:C215) -> 0 | D217: =MAX(D166:D215) -> 0 | E217: =MAX(E166:E215) -> 0 | F217: =MAX(F166:F215) -> 0 | G217: =MAX(G166:G215) -> 0 | H217: =MAX(H166:H215) -> 0 | I217: =MAX(I166:I215) -> 0 | ... AE217: =MAX(AE166:AE215) -> 0
A218: кол. | B218: =COUNT(B166:B215) -> 0 | C218: =COUNT(C166:C215) -> 0 | D218: =COUNT(D166:D215) -> 0 | E218: =COUNT(E166:E215) -> 0 | F218: =COUNT(F166:F215) -> 0 | G218: =COUNT(G166:G215) -> 0 | H218: =COUNT(H166:H215) -> 0 | I218: =COUNT(I166:I215) -> 0 | ... AE218: =COUNT(AE166:AE215) -> 0 | AG218: =SUM(B218:AE218) -> 0
A219: п я т ы й п а к е т | J219: количество рыбы: | M219: =AG272 -> 0 | N219: общий вес: | Q219: =AG270 -> 0
A220: 1
A221: 2
...

Sheet Инф.прот.пром.
B1: ПРОМЕЖУТОЧНЫЙ ИНФОРМАЦИОННЫЙ ПРОТОКОЛ ТЕХНИЧЕСКИХ РЕЗУЛЬТАТОВ
A2: =Жереб.!A2 -> Чемпионат НСО по ловле карпа (парные) | C2: =Жереб.!B3 -> г.Новосибирск | E2: 20 августа 2016 09-00
A3: МЕСТО | B3: название пары,принадлежность, клуб | C3: "Пара"(Ф И О) | D3: разряд звание | E3: сектор | F3: крупная рыба | G3: кол. | H3: общий вес | I3: отставание от:
I4: лидера | J4: предыдущего
A5: 1 | B5: =Жереб.!B10 -> Нигма | C5: =Жереб.!C10 -> Строкольский Михаил Сергеевич Шаков Артем Викторович | D5: =Жереб.!D10 -> 1 3 | E5: =Жереб.!F10 -> 5 | F5: =Статистика!AK13 -> 4500 | G5: =Статистика!F492 -> 19 | H5: =Статистика!F54+Статистика!F108+Статистика!F162+Статистика!F216+Статистика!F270+Статистика!F324+Статистика!F378+Статистика!F434+Статистика!F488 -> 63750
A6: 2 | B6: =Жереб.!B14 -> АкМа | C6: =Жереб.!C14 -> Караванов Павел Владимирович Ковалев Николай Александрович | D6: =Жереб.!D14 -> 2 3 | E6: =Жереб.!F14 -> 9 | F6: =Статистика!AO13 -> 4750 | G6: =Статистика!J492 -> 17 | H6: =Статистика!J54+Статистика!J108+Статистика!J162+Статистика!J216+Статистика!J270+Статистика!J324+Статистика!J378+Статистика!J434+Статистика!J488 -> 55175 | I6: =H5-H6 -> 8575 | J6: =H5-H6 -> 8575
A7: 3 | B7: =Жереб.!B13 -> Команда водянного | C7: =Жереб.!C13 -> Герасимов Алексей Николаевич Докучаев Евгений Гергиевич | D7: =Жереб.!D13 -> 1 2 | E7: =Жереб.!F13 -> 8 | F7: =Статистика!AN13 -> 4900 | G7: =Статистика!I492 -> 13 | H7: =Статистика!I54+Статистика!I108+Статистика!I162+Статистика!I216+Статистика!I270+Статистика!I324+Статистика!I378+Статистика!I434+Статистика!I488 -> 44525 | I7: =H5-H7 -> 19225 | J7: =H6-H7 -> 10650
A8: 4 | B8: =Жереб.!B12 -> NoKill team | C8: =Жереб.!C12 -> Елизарьев Виталий Юрьевич Кущ Константин Викторович | D8: =Жереб.!D12 -> 2 2 | E8: =Жереб.!F12 -> 7 | F8: =Статистика!AM13 -> 4325 | G8: =Статистика!H492 -> 8 | H8: =Статистика!H54+Статистика!H108+Статистика!H162+Статистика!H216+Статистика!H270+Статистика!H324+Статистика!H378+Статистика!H434+Статистика!H488 -> 26125 | I8: =H5-H8 -> 37625 | J8: =H7-H8 -> 18400
A9: 5 | B9: =Жереб.!B11 -> Карпуша | C9: =Жереб.!C11 -> Костин Константин Анатольевич Костин Константин Константинович | D9: =Жереб.!D11 -> кмс 3 | E9: =Жереб.!F11 -> 6 | F9: =Статистика!AL13 -> 3825 | G9: =Статистика!G492 -> 8 | H9: =Статистика!G54+Статистика!G108+Статистика!G162+Статистика!G216+Статистика!G270+Статистика!G324+Статистика!G378+Статистика!G434+Статистика!G488 -> 24575 | I9: =H5-H9 -> 39175 | J9: =H8-H9 -> 1550
A10: 6 | B10: =Жереб.!B9 -> Assum | C10: =Жереб.!C9 -> Крюков Александр Сеергеевич Крюкова Татьяна Александровна | D10: =Жереб.!D9 -> кмс кмс | E10: =Жереб.!F9 -> 4 | F10: =Статистика!AJ13 -> 4600 | G10: =Статистика!E492 -> 7 | H10: =Статистика!E54+Статистика!E108+Статистика!E162+Статистика!E216+Статистика!E270+Статистика!E324+Статистика!E378+Статистика!E434+Статистика!E488 -> 24250 | I10: =H5-H10 -> 39500 | J10: =H9-H10 -> 325
A11: 7 | B11: =Жереб.!B6 -> Deep Water | C11: =Жереб.!C6 -> Вергунов Максим Юревич Вергунов Александр Юрьевич | D11: =Жереб.!D6 -> 1 2 | E11: =Жереб.!F6 -> 1 | F11: =Статистика!AG13 -> 3900 | G11: =Статистика!B492 -> 4 | H11: =Статистика!B54+Статистика!B108+Статистика!B162+Статистика!B216+Статистика!B270+Статистика!B324+Статистика!B378+Статистика!B434+Статистика!B488 -> 13700 | I11: =H5-H11 -> 50050 | J11: =H10-H11 -> 10550
A12: 8 | B12: =Жереб.!B7 -> Катунь | C12: =Жереб.!C7 -> Вотяков Андрей Михайлович Заушицин Артем Анатольевич | D12: =Жереб.!D7 -> 1 3 | E12: =Жереб.!F7 -> 2 | F12: =Статистика!AH13 -> 4475 | G12: =Статистика!C492 -> 3 | H12: =Статистика!C54+Статистика!C108+Статистика!C162+Статистика!C216+Статистика!C270+Статистика!C324+Статистика!C378+Статистика!C434+Статистика!C488 -> 11250 | I12: =H5-H12 -> 52500 | J12: =H11-H12 -> 2450
A13: 9 | B13: =Жереб.!B8 -> Дрим Тим | C13: =Жереб.!C8 -> Иванов Алексей Анатольевич Иванова Наталья Анатольевна | D13: =Жереб.!D8 -> 2 б\р | E13: =Жереб.!F8 -> 3 | F13: =Статистика!AI13 -> 4300 | G13: =Статистика!D492 -> 3 | H13: =Статистика!D54+Статистика!D108+Статистика!D162+Статистика!D216+Статистика!D270+Статистика!D324+Статистика!D378+Статистика!D434+Статистика!D488 -> 9975 | I13: =H5-H13 -> 53775 | J13: =H12-H13 -> 1275
A14: 0 | B14: =Жереб.!B15 -> nismo | C14: =Жереб.!C15 -> Суртаев Сергей Валерьевич Куликов Денис Игоревич | D14: =Жереб.!D15 -> 3 б/р | E14: =Жереб.!F15 -> 10 | F14: =Статистика!AP13 -> 0 | G14: =Статистика!K492 -> 0 | H14: =Статистика!K54+Статистика!K108+Статистика!K162+Статистика!K216+Статистика!K270+Статистика!K324+Статистика!K378+Статистика!K434+Статистика!K488 -> 0 | I14: =H5-H14 -> 63750 | J14: =H13-H14 -> 9975
C15: Всего поймано рыбы(общий вес): | E15: =SUM(H5:H14) -> 273325
C16: Количество пойманой рыбы: | E16: =SUM(G5:G14) -> 82

Sheet Протокол ТР
A1: ТЕХНИЧЕСКИЕ РЕЗУЛЬТАТЫ ВЫСТУПЛЕНИЯ ПАР(ДВОЕК)
B3: =Жереб.!A2 -> Чемпионат НСО по ловле карпа (парные)
A4: =Жереб.!B3 -> г.Новосибирск | G4: =Жереб.!E3 -> 18-21.08.2016
A5: сектор | B5: Название пары, принадлежность, клуб | C5: пара(двойка) Ф И О | D5: разряд звание | E5: кол. | F5: крупная рыба | G5: средний вес | H5: общий вес (баллы) | I5: место | J5: примечания, замены. Нормы ЕВСК
A7: =Инф.прот.пром.!E5 -> 5 | B7: =Инф.прот.пром.!B5 -> Нигма | C7: =Инф.прот.пром.!C5 -> Строкольский Михаил Сергеевич Шаков Артем Викторович | D7: =Инф.прот.пром.!D5 -> 1 3 | E7: =Инф.прот.пром.!G5 -> 19 | F7: =Инф.прот.пром.!F5 -> 4500 | G7: =H7/E7 -> 3355.2632 | H7: =Инф.прот.пром.!H5 -> 63750 | I7: 1
A9: =Инф.прот.пром.!E6 -> 9 | B9: =Инф.прот.пром.!B6 -> АкМа | C9: =Инф.прот.пром.!C6 -> Караванов Павел Владимирович Ковалев Николай Александрович | D9: =Инф.прот.пром.!D6 -> 2 3 | E9: =Инф.прот.пром.!G6 -> 17 | F9: =Инф.прот.пром.!F6 -> 4750 | G9: =H9/E9 -> 3245.5882 | H9: =Инф.прот.пром.!H6 -> 55175 | I9: 2
A11: =Инф.прот.пром.!E7 -> 8 | B11: =Инф.прот.пром.!B7 -> Команда водянного | C11: =Инф.прот.пром.!C7 -> Герасимов Алексей Николаевич Докучаев Евгений Гергиевич | D11: =Инф.прот.пром.!D7 -> 1 2 | E11: =Инф.прот.пром.!G7 -> 13 | F11: =Инф.прот.пром.!F7 -> 4900 | G11: =H11/E11 -> 3425 | H11: =Инф.прот.пром.!H7 -> 44525 | I11: 3
A13: =Инф.прот.пром.!E8 -> 7 | B13: =Инф.прот.пром.!B8 -> NoKill team | C13: =Инф.прот.пром.!C8 -> Елизарьев Виталий Юрьевич Кущ Константин Викторович | D13: =Инф.прот.пром.!D8 -> 2 2 | E13: =Инф.прот.пром.!G8 -> 8 | F13: =Инф.прот.пром.!F8 -> 4325 | G13: =H13/E13 -> 3265.625 | H13: =Инф.прот.пром.!H8 -> 26125 | I13: 4
A15: =Инф.прот.пром.!E9 -> 6 | B15: =Инф.прот.пром.!B9 -> Карпуша | C15: =Инф.прот.пром.!C9 -> Костин Константин Анатольевич Костин Константин Константинович | D15: =Инф.прот.пром.!D9 -> кмс 3 | E15: =Инф.прот.пром.!G9 -> 8 | F15: =Инф.прот.пром.!F9 -> 3825 | G15: =H15/E15 -> 3071.875 | H15: =Инф.прот.пром.!H9 -> 24575 | I15: 5
A17: =Инф.прот.пром.!E10 -> 4 | B17: =Инф.прот.пром.!B10 -> Assum | C17: =Инф.прот.пром.!C10 -> Крюков Александр Сеергеевич Крюкова Татьяна Александровна | D17: =Инф.прот.пром.!D10 -> кмс кмс | E17: =Инф.прот.пром.!G10 -> 7 | F17: =Инф.прот.пром.!F10 -> 4600 | G17: =H17/E17 -> 3464.2857 | H17: =Инф.прот.пром.!H10 -> 24250 | I17: 6
A19: =Инф.прот.пром.!E11 -> 1 | B19: =Инф.прот.пром.!B11 -> Deep Water | C19: =Инф.прот.пром.!C11 -> Вергунов Максим Юревич Вергунов Александр Юрьевич | D19: =Инф.прот.пром.!D11 -> 1 2 | E19: =Инф.прот.пром.!G11 -> 4 | F19: =Инф.прот.пром.!F11 -> 3900 | G19: =H19/E19 -> 3425 | H19: =Инф.прот.пром.!H11 -> 13700 | I19: 7
A21: =Инф.прот.пром.!E12 -> 2 | B21: =Инф.прот.пром.!B12 -> Катунь | C21: =Инф.прот.пром.!C12 -> Вотяков Андрей Михайлович Заушицин Артем Анатольевич | D21: =Инф.прот.пром.!D12 -> 1 3 | E21: =Инф.прот.пром.!G12 -> 3 | F21: =Инф.прот.пром.!F12 -> 4475 | G21: =H21/E21 -> 3750 | H21: =Инф.прот.пром.!H12 -> 11250 | I21: 8
A23: =Инф.прот.пром.!E13 -> 3 | B23: =Инф.прот.пром.!B13 -> Дрим Тим | C23: =Инф.прот.пром.!C13 -> Иванов Алексей Анатольевич Иванова Наталья Анатольевна | D23: =Инф.прот.пром.!D13 -> 2 б\р | E23: =Инф.прот.пром.!G13 -> 3 | F23: =Инф.прот.пром.!F13 -> 4300 | G23: =H23/E23 -> 3325 | H23: =Инф.прот.пром.!H13 -> 9975 | I23: 9
A25: =Инф.прот.пром.!E14 -> 10 | B25: =Инф.прот.пром.!B14 -> nismo | C25: =Инф.прот.пром.!C14 -> Суртаев Сергей Валерьевич Куликов Денис Игоревич | D25: =Инф.прот.пром.!D14 -> 3 б/р | E25: =Инф.прот.пром.!G14 -> 0 | F25: =Инф.прот.пром.!F14 -> 0 | G25: =H25/E25 -> #DIV/0! | H25: =Инф.прот.пром.!H14 -> 0 | I25: 10
A27: =Инф.прот.пром.!#REF! -> #REF! | B27: =Инф.прот.пром.!#REF! -> #REF! | C27: =Инф.прот.пром.!#REF! -> #REF! | D27: =Инф.прот.пром.!#REF! -> #REF! | E27: =Инф.прот.пром.!#REF! -> #REF! | F27: =Инф.прот.пром.!#REF! -> #REF! | G27: =H27/E27 -> #REF! | H27: =Инф.прот.пром.!#REF! -> #REF! | I27: 11
A29: =Инф.прот.пром.!#REF! -> #REF! | B29: =Инф.прот.пром.!#REF! -> #REF! | C29: =Инф.прот.пром.!#REF! -> #REF! | D29: =Инф.прот.пром.!#REF! -> #REF! | E29: =Инф.прот.пром.!#REF! -> #REF! | F29: =Инф.прот.пром.!#REF! -> #REF! | G29: =H29/E29 -> #REF! | H29: =Инф.прот.пром.!#REF! -> #REF! | I29: 12
A31: =Инф.прот.пром.!#REF! -> #REF! | B31: =Инф.прот.пром.!#REF! -> #REF! | C31: =Инф.прот.пром.!#REF! -> #REF! | D31: =Инф.прот.пром.!#REF! -> #REF! | E31: =Инф.прот.пром.!#REF! -> #REF! | F31: =Инф.прот.пром.!#REF! -> #REF! | G31: =H31/E31 -> #REF! | H31: =Инф.прот.пром.!#REF! -> #REF! | I31: 13
A33: =Инф.прот.пром.!#REF! -> #REF! | B33: =Инф.прот.пром.!#REF! -> #REF! | C33: =Инф.прот.пром.!#REF! -> #REF! | D33: =Инф.прот.пром.!#REF! -> #REF! | E33: =Инф.прот.пром.!#REF! -> #REF! | F33: =Инф.прот.пром.!#REF! -> #REF! | G33: =H33/E33 -> #REF! | H33: =Инф.прот.пром.!#REF! -> #REF! | I33: 14
A35: =Инф.прот.пром.!#REF! -> #REF! | B35: =Инф.прот.пром.!#REF! -> #REF! | C35: =Инф.прот.пром.!#REF! -> #REF! | D35: =Инф.прот.пром.!#REF! -> #REF! | E35: =Инф.прот.пром.!#REF! -> #REF! | F35: =Инф.прот.пром.!#REF! -> #REF! | G35: =H35/E35 -> #REF! | H35: =Инф.прот.пром.!#REF! -> #REF! | I35: 15
A37: =Инф.прот.пром.!#REF! -> #REF! | B37: =Инф.прот.пром.!#REF! -> #REF! | C37: =Инф.прот.пром.!#REF! -> #REF! | D37: =Инф.прот.пром.!#REF! -> #REF! | E37: =Инф.прот.пром.!#REF! -> #REF! | F37: =Инф.прот.пром.!#REF! -> #REF! | G37: =H37/E37 -> #REF! | H37: =Инф.прот.пром.!#REF! -> #REF! | I37: 16
A39: =Инф.прот.пром.!#REF! -> #REF! | B39: =Инф.прот.пром.!#REF! -> #REF! | C39: =Инф.прот.пром.!#REF! -> #REF! | D39: =Инф.прот.пром.!#REF! -> #REF! | E39: =Инф.прот.пром.!#REF! -> #REF! | F39: =Инф.прот.пром.!#REF! -> #REF! | G39: =H39/E39 -> #REF! | H39: =Инф.прот.пром.!#REF! -> #REF! | I39: 17
A41: =Инф.прот.пром.!#REF! -> #REF! | B41: =Инф.прот.пром.!#REF! -> #REF! | C41: =Инф.прот.пром.!#REF! -> #REF! | D41: =Инф.прот.пром.!#REF! -> #REF! | E41: =Инф.прот.пром.!#REF! -> #REF! | F41: =Инф.прот.пром.!#REF! -> #REF! | G41: =H41/E41 -> #REF! | H41: =Инф.прот.пром.!#REF! -> #REF! | I41: 18
A43: =Инф.прот.пром.!#REF! -> #REF! | B43: =Инф.прот.пром.!#REF! -> #REF! | C43: =Инф.прот.пром.!#REF! -> #REF! | D43: =Инф.прот.пром.!#REF! -> #REF! | E43: =Инф.прот.пром.!#REF! -> #REF! | F43: =Инф.прот.пром.!#REF! -> #REF! | G43: =H43/E43 -> #REF! | H43: =Инф.прот.пром.!#REF! -> #REF! | I43: 19
A45: =Инф.прот.пром.!#REF! -> #REF! | B45: =Инф.прот.пром.!#REF! -> #REF! | C45: =Инф.прот.пром.!#REF! -> #REF! | D45: =Инф.прот.пром.!#REF! -> #REF! | E45: =Инф.прот.пром.!#REF! -> #REF! | F45: =Инф.прот.пром.!#REF! -> #REF! | G45: =H45/E45 -> #REF! | H45: =Инф.прот.пром.!#REF! -> #REF! | I45: 20
A47: =Инф.прот.пром.!#REF! -> #REF! | B47: =Инф.прот.пром.!#REF! -> #REF! | C47: =Инф.прот.пром.!#REF! -> #REF! | D47: =Инф.прот.пром.!#REF! -> #REF! | E47: =Инф.прот.пром.!#REF! -> #REF! | F47: =Инф.прот.пром.!#REF! -> #REF! | G47: =H47/E47 -> #REF! | H47: =Инф.прот.пром.!#REF! -> #REF! | I47: 21
A49: =Инф.прот.пром.!#REF! -> #REF! | B49: =Инф.прот.пром.!#REF! -> #REF! | C49: =Инф.прот.пром.!#REF! -> #REF! | D49: =Инф.прот.пром.!#REF! -> #REF! | E49: =Инф.прот.пром.!#REF! -> #REF! | F49: =Инф.прот.пром.!#REF! -> #REF! | G49: =H49/E49 -> #REF! | H49: =Инф.прот.пром.!#REF! -> #REF! | I49: 22
... A65: =Инф.прот.пром.!#REF! -> #REF! | B65: =Инф.прот.пром.!#REF! -> #REF! | C65: =Инф.прот.пром.!#REF! -> #REF! | D65: =Инф.прот.пром.!#REF! -> #REF! | E65: =Инф.прот.пром.!#REF! -> #REF! | F65: =Инф.прот.пром.!#REF! -> #REF! | G65: =H65/E65 -> #REF! | H65: =Инф.прот.пром.!#REF! -> #REF! | I65: 30
A68: Главный судья соревнования: | D68: ='Список суд.'!C8 -> Журавлев АЛ | H68: ='Список суд.'!D8 -> 1к | I68: общий вес: | J68: =SUM(H7:H66) -> #REF!
I69: кол. | J69: =SUM(E7:E66) -> #REF!
A70: Главный секретарь соревнования: | D70: ='Список суд.'!C11 -> Семина ОВ | H70: ='Список суд.'!D11 -> 1к | I70: ср.вес | J70: =J68/J69 -> #REF!

Sheet Пр.суд. коллегии
A5: ПРОТОКОЛ
A6: судейской коллегии по проведению соревнований
A7: =Жереб.!A2 -> Чемпионат НСО по ловле карпа (парные)
B10: Состав судейской коллегии соревнований.
A12: Главный судья: | C12: ='Список суд.'!C8 -> Журавлев АЛ | F12: ='Список суд.'!D8 -> 1к
A13: Зам.главного судьи соревнований: | E13: ='Список суд.'!C9 -> Енаки ИЮ | H13: ='Список суд.'!D9 -> 2к
A14: Главный секретарь(секретарь) судейской коллегии: | F14: ='Список суд.'!C11 -> Семина ОВ | I14: ='Список суд.'!D11 -> 1к
A15: Зам. главного судьи соревнований: | E15: ='Список суд.'!C10 -> 0 | H15: ='Список суд.'!D10 -> 0
A16: Старшие судьи: | C16: ='Список суд.'!C13 -> Абрамов ВВ | E16: ='Список суд.'!C14 -> 0 | G16: ='Список суд.'!C15 -> 0 | I16: ='Список суд.'!C16 -> 0 | K16: ='Список суд.'!C17 -> 0
A19: Дата и место проведения соревнований; | E19: =Жереб.!B3 -> г.Новосибирск | K19: =Жереб.!E3 -> 18-21.08.2016
A20: Граница водоёма в месте проведения соревнований: в границе всего водоёма.
A21: Время старта:
A22: Время финиша:
A23: Количество зарегистрировавшихся пар (всего): | G23: =Пр.мандатный!G13 -> 10
A24: Количество зарегистрировавшихся спортменов: | G24: =Пр.мандатный!G14 -> 0
A25: Количество пар явившихся на старт:
A26: Количество финишировавших пар :
A27: Не явились на старт пары: | E27: нет
A29: Не явились на финиш пары: | E29: нет
A30: На основании технического протокола, положения и правил,
A31: Главная судейская коллегия соревнований постановила присудить:
A32: ПЕРВОЕ МЕСТО с суммой мест(общим весом, кГ) завоевала команда: | F32: =Инф.прот.пром.!H5 -> 63750 | G32: команде ("паре"): | I32: =Инф.прот.пром.!B5 -> Нигма
J33: наименование коллектива
C34: в составе: | E34: =Инф.прот.пром.!C5 -> Строкольский Михаил Сергеевич Шаков Артем Викторович
A35: с вручением ей: | C35: Кубка и медалей,дипломов за первое место.
A36: и присвоением ей звания:
A38: ВТОРОЕ МЕСТО с суммой мест(общим весом, кГ) завоевала команда: | F38: =Инф.прот.пром.!H6 -> 55175 | G38: команде ("паре"): | I38: =Инф.прот.пром.!B6 -> АкМа
J39: наименование коллектива
C40: в составе: | E40: =Инф.прот.пром.!C6 -> Караванов Павел Владимирович Ковалев Николай Александрович
A41: с вручением ей: | C41: Кубка и медалей,дипломов за второе место.
A42: и присвоеним ей звания:
A44: ТРЕТЬЕ МЕСТО с суммой мест(общим весом, кГ) завоевала команда: | F44: =Инф.прот.пром.!H7 -> 44525 | G44: команде ("паре"): | I44: =Инф.прот.пром.!B7 -> Команда водянного
J45: наименование коллектива
C46: в составе: | E46: =Инф.прот.пром.!C7 -> Герасимов Алексей Николаевич Докучаев Евгений Гергиевич
A47: с вручением ей: | C47: Кубка и медалей,дипломов за третье место.
A48: и присвоением ей звания:
B55: Общее время соревнований:
A56: Соревнования были остановлены по причине: | I56: Время паузы:
A57: Общий вес выловленной рыбы: кг. | E57: =SUM('Протокол ТР'!H7:H56) -> #REF!
A58: Вес наибольшего экземпляра: кг. | E58: =MAX('Протокол ТР'!F7:F56) -> #REF!
A59: Средний вес выловленной рыбы: | E59: =E57/E60 -> #REF!
A60: Всего количество выловленной рыбы, шт: | E60: =SUM('Протокол ТР'!E7:E56) -> #REF!
A61: Улов состоял из следующих видов рыб: | F61: карп, сазан, амур
A62: Оценка работы коллектива обслуживающего соревнования, других организаций: | I62: судейская коллегия - отлично,
A63: организации обслуживающие соревнования, организаторы - отлично
A64: Выводы и предложения о проведённых соревнованиях:
A67: Решение судейской коллегии о нарушителях: | F67: нет
A71: Приложения: а) положение о соревнованиях; | G71: есть
B72: б) лист(журнал) регистрации участников; | G72: есть
B73: в) список судейской коллегии: | G73: есть
B74: г) протокол мандатной комиссии; | G74: есть
B75: ж) протоколтехнических результатов: | G75: есть
B76: з) протоколы взвешивания: | G76: есть
B77: и) промежуточные информационные протоколы: | G77: есть
B78: к) протокол нарушений: | G78: нет
B83: Подписи: | D83: Главный судья: | G83: ='Список суд.'!C8 -> Журавлев АЛ | J83: ='Список суд.'!D8 -> 1к
D85: Главный секретарь: | G85: ='Список суд.'!C11 -> Семина ОВ | J85: ='Список суд.'!D11 -> 1к
D87: Зам. Главного судьи: | G87: ='Список суд.'!C9 -> Енаки ИЮ | J87: ='Список суд.'!D9 -> 2к
D89: Зам. Главного судьи: | G89: ='Список суд.'!C10 -> 0 | J89: ='Список суд.'!D10 -> 0

Sheet ГКС
A1: ОТЧЁТ
A2: главной судейской коллегии о проведении соревнований по ловле рыбы
A3: =Жереб.!A2 -> Чемпионат НСО по ловле карпа (парные)
A5: 1.Место проведения: | C5: =Жереб.!B3 -> г.Новосибирск
A7: 2.Наименование спортивного сооружения:
A9: 3.Сроки проведения: | C9: =Жереб.!E3 -> 18-21.08.2016
A10: 4.Количество команд (перечислить территории согласно занятым местам):
A15: 5. Всего спортсменов: | D15: =COUNT(#REF!) -> 0 | E15: из них мужчин: женщин:
A16: 6.Представительство спортивных организациий:
A17: Вооруженные силы ____, «Динамо»____ , ФСО профсоюзов «Россия»_____,
A18: "Юность России"_____, РС СО "Спартак"_____,Рсфсо"Локмотив"_____,спортивные клубы СК
A19: _____, другие организации: __________________________________________________________
A20: 7.Принадлежность к споривной школе: ДЮСШ_____, СДЮШОР_____, ШСВМ_____,УОР_____.
A21: 8.Количество судей(всего):______, в том числе иногородних_________.
A22: 9.Уровень Подготовки судей по категориям:МК_____ВК_____,РК____,других категорий____.
A23: 10.Количество судейско-вспомогательного персоноала(всего): _________чел.
A24: 11.Уровень спортивной подготовки спортсменов(количество человек):
C25: мужчины | D25: женщины | F25: мужчины | G25: женщины
B26: змс | E26: кмс
B27: мсмк | E27: 1 р
B28: мс | E28: др.разряды
A29: 12.Выполнение (подтверждение) нормативов (количество показанных результатов):
B30: мск | E30: кмс
B31: мс | E31: 1 разряд
A32: 13.Общая оценка состояния спортивной базы, наличие и состояние спортивного оборудования
A33: и инвентаря, возможности для разминки и тренировок:
A34: отлично
A37: 14.Общая оценка состояния и оснащения служебных помещений - раздевалок для
A38: спортсменов, помещений для судей и других служб:не предусмотрено
A42: 15.Информационное обеспечение соревнований - табло, радиоинформация, своевременность
A43: и доступность стартовых протоколов и результатов соревнований, обеспечение судейской
A44: коллегии средствами вычислительной техники и множительной апаратурой: компьютер,
A45: принтер, мобильный интернет для подсчёта результатов и оперативного
A46: предоставления протоколов и таблиц.
A48: 16.Обеспечение работы средств массовой информации - места на трибунах, помещение для
A49: пресс-центра и т.д., в том числе освещение соревнования в местных СМИ:
... A81: соответствуют статусу, Правилам и Положению о соревнованиях.
A87: Главный судья: | F87: ='Список суд.'!C8 -> Журавлев АЛ | H87: ='Список суд.'!D8 -> 1к

Sheet Протокол нарушений
A2: Протокол Главной Судейской Коллегии о применении санкций к нарушителям.
A3: =Жереб.!A2 -> Чемпионат НСО по ловле карпа (парные)
C4: наименование соревнований
A5: =Жереб.!B3 -> г.Новосибирск | H5: =Жереб.!E3 -> 18-21.08.2016
C6: место и время проведения
A8: Рассмотрев представленные документы о применении санкций
A9: к нарушителям, Главная Судейская Коллегия решила:
A10: 1.
A12: 2.
A14: 3.
A16: 4.
A18: 5.
A20: 6.
A22: 7.
A24: 8.
A26: 9.
A28: 10.
B30: Письменные представления судей прилагаются.
A31: Главный судья: | D31: ='Список суд.'!C8 -> Журавлев АЛ | F31: ='Список суд.'!D8 -> 1к
A32: Главный секретарь: | D32: ='Список суд.'!C11 -> Семина ОВ | F32: ='Список суд.'!D11 -> 1к
A33: Заместитель главного судьи: | D33: ='Список суд.'!C9 -> Енаки ИЮ | F33: ='Список суд.'!D9 -> 2к
A34: Заместитель главного судьи: | D34: ='Список суд.'!C10 -> 0 | F34: ='Список суд.'!D10 -> 0

Sheet Не явивш.
A1: =Жереб.!A2 -> Чемпионат НСО по ловле карпа (парные)
B2: =Жереб.!B3 -> г.Новосибирск | D2: =Жереб.!E3 -> 18-21.08.2016
A3: Список команд, пар(двоек), не явившихся на старт.
A4: № | B4: Команда(пара) | C4: Ф И О | D4: примечание
A5: 1
A6: 2
A7: 3
A8: 4
A9: 5
A10: 6
A11: 7
A12: Список команд, пар(двоек), не явившихся на финиш.
A14: № | B14: Команда(пара) | C14: Ф И О | D14: примечание
A15: 1
A16: 2
A17: 3
A18: 4
A19: 5
A20: 6
A21: 7
A23: Главный секретарь: | C23: ='Список суд.'!C11 -> Семина ОВ
C24: ='Список суд.'!D11 -> 1к
